BEGIN:VCALENDAR
VERSION:2.0
METHOD:PUBLISH
PRODID:-//Accessible Web Design//My Calendar//http://www.joedolson.com//v//EN';
BEGIN:VEVENT
UID:672-648
LOCATION:Pavillón Municipal Jonathan Carro Paz Rúa do Carme, 31, 27300 Guitiriz, Lugo
SUMMARY:Fútbol sala: EDM Guitiriz - Ribeira B (Benxamín)
DTSTAMP:20251025T170000
ORGANIZER;CN=Fran García:MAILTO:fran.garcia@artabra.es
DTSTART:20251025T170000
DTEND:20251025T180000
CATEGORIES:Fútbol sala
URL;VALUE=URI:https://deportes.concellodeguitiriz.com/mc-events/futbol-sala-edm-guitiriz-ribeira-b-benxamin/?mc_id=672
DESCRIPTION:O sábado 25 de outubro ás 17:00 horas o equipo benxamín das EDM Guitiriz verase as caras co Ribeira B nun partido no Pavillón Jonathan Carro Paz.
END:VEVENT
END:VCALENDAR