BEGIN:VCALENDAR
VERSION:2.0
METHOD:PUBLISH
PRODID:-//Accessible Web Design//My Calendar//http://www.joedolson.com//v//EN';
BEGIN:VEVENT
UID:676-652
LOCATION:
SUMMARY:Fútbol sala: LugoSala - EDM Guitiriz (Benxamín)
DTSTAMP:20251101T120000
ORGANIZER;CN=Fran García:MAILTO:fran.garcia@artabra.es
DTSTART:20251101T120000
DTEND:20251101T140000
CATEGORIES:Fútbol sala
URL;VALUE=URI:https://deportes.concellodeguitiriz.com/mc-events/futbol-sala-lugosala-edm-guitiriz-benxamin/?mc_id=676
DESCRIPTION:O sábado 1 de novembro ás 12:00 horas o equipo benxamín das EDM Guitiriz verase as caras co LugoSala nun partido no Pazo de Feiras de Lugo.
END:VEVENT
END:VCALENDAR