BEGIN:VCALENDAR
VERSION:2.0
METHOD:PUBLISH
PRODID:-//Accessible Web Design//My Calendar//http://www.joedolson.com//v//EN';
BEGIN:VEVENT
UID:694-670
LOCATION:
SUMMARY:Fútbol sala: Castro FS - EDM Guitiriz A (Benxamín Xogade)
DTSTAMP:20251108T110000
ORGANIZER;CN=Fran García:MAILTO:fran.garcia@artabra.es
DTSTART:20251108T110000
DTEND:20251108T120000
CATEGORIES:Fútbol sala
URL;VALUE=URI:https://deportes.concellodeguitiriz.com/mc-events/futbol-sala-castro-fs-edm-guitiriz-a-benxamin-xogade/?mc_id=694
DESCRIPTION:O sábado 8 de novembro ás 11:00 horas o equipo benxamín A das EDM Guitiriz verase as caras co Castro FS nun partido do programa Xogade en Castro Ribeiras de Lea.
END:VEVENT
END:VCALENDAR