BEGIN:VCALENDAR
VERSION:2.0
METHOD:PUBLISH
PRODID:-//Accessible Web Design//My Calendar//http://www.joedolson.com//v//EN';
BEGIN:VEVENT
UID:698-674
LOCATION:Campo de fútbol Suso Cruz 27308 Guitiriz, Lugo
SUMMARY:Fútbol: SD Guitiriz - Palas CD (Cadete)
DTSTAMP:20251109T110000
ORGANIZER;CN=Fran García:MAILTO:fran.garcia@artabra.es
DTSTART:20251109T110000
DTEND:20251109T130000
CATEGORIES:Fútbol campo
URL;VALUE=URI:https://deportes.concellodeguitiriz.com/mc-events/futbol-sd-guitiriz-palas-cd-cadete/?mc_id=698
DESCRIPTION:O domingo 9 de novembro o equipo cadete da SD Guitiriz xogará contra o Palas CD no Suso Cruz ás 11:00 horas.
END:VEVENT
END:VCALENDAR