BEGIN:VCALENDAR
VERSION:2.0
METHOD:PUBLISH
PRODID:-//Accessible Web Design//My Calendar//http://www.joedolson.com//v//EN';
BEGIN:VEVENT
UID:76-73
LOCATION:
SUMMARY:Tenis de mesa: Guitiriz TM - SD Ribadeo TM B
DTSTAMP:20241005T160000
ORGANIZER;CN=Fran García:MAILTO:fran.garcia@artabra.es
DTSTART:20241005T160000
DTEND:20241005T170000
CATEGORIES:General, Tenis de mesa
URL;VALUE=URI:https://deportes.concellodeguitiriz.com/mc-events/tenis-de-mesa-guitiriz-tm-sd-ribadeo-tm-b/?mc_id=76
DESCRIPTION:O sábado 5 de outubro ás 16:00 horas o Guitiriz TM xogará o primeiro partido da primeira xornada da 2ª División Galega Masculina (Grupo Norte) de tenis de mesa na tempada 2024/25 contra o SD Ribadeo TM B. Será no pavillón de Frigsa de Lugo.
END:VEVENT
END:VCALENDAR