BEGIN:VCALENDAR
VERSION:2.0
METHOD:PUBLISH
PRODID:-//Accessible Web Design//My Calendar//http://www.joedolson.com//v//EN';
BEGIN:VEVENT
UID:866-834
LOCATION:
SUMMARY:Fútbol sala: Ribeira B - EDM Guitiriz (Cadete)
DTSTAMP:20260216T103000
ORGANIZER;CN=Fran García:MAILTO:fran.garcia@artabra.es
DTSTART:20260216T103000
DTEND:20260216T143000
CATEGORIES:Fútbol sala
URL;VALUE=URI:https://deportes.concellodeguitiriz.com/mc-events/futbol-sala-ribeira-b-edm-guitiriz-cadete/?mc_id=866
DESCRIPTION:O luns 16 de febreiro ás 12:30 horas haberá un partido das EDM Guitiriz categoría cadete contra o Ribeira B no Pavillón de Somos Fútbo de Lugo.
END:VEVENT
END:VCALENDAR