BEGIN:VCALENDAR
VERSION:2.0
METHOD:PUBLISH
PRODID:-//Accessible Web Design//My Calendar//http://www.joedolson.com//v//EN';
BEGIN:VEVENT
UID:867-835
LOCATION:Campo de fútbol Suso Cruz 27308 Guitiriz, Lugo
SUMMARY:Fútbol: SD Guitiriz - SD Pol (Infantil)
DTSTAMP:20260214T113000
ORGANIZER;CN=Fran García:MAILTO:fran.garcia@artabra.es
DTSTART:20260214T113000
DTEND:20260214T133000
CATEGORIES:Fútbol campo
URL;VALUE=URI:https://deportes.concellodeguitiriz.com/mc-events/futbol-sd-guitiriz-sd-pol-infantil-2/?mc_id=867
DESCRIPTION:O sábado 14 de febreiro o equipo infantil da SD Guitiriz xogará contra a SD Pol no Suso Cruz ás 11:30 horas.
END:VEVENT
END:VCALENDAR