BEGIN:VCALENDAR
VERSION:2.0
METHOD:PUBLISH
PRODID:-//Accessible Web Design//My Calendar//http://www.joedolson.com//v//EN';
BEGIN:VEVENT
UID:887-855
LOCATION:
SUMMARY:Fútbol sala: Begonte - EDM Guitiriz (Cadete)
DTSTAMP:20260219T200000
ORGANIZER;CN=Fran García:MAILTO:fran.garcia@artabra.es
DTSTART:20260219T200000
DTEND:20260219T210000
CATEGORIES:Fútbol sala
URL;VALUE=URI:https://deportes.concellodeguitiriz.com/mc-events/futbol-sala-begonte-edm-guitiriz-cadete-2/?mc_id=887
DESCRIPTION:O xoves 19 de febreiro ás 20:00 horas a categoría cadete das EDM Guitiriz verase as caras co Begonte nun partido en Baamonde.
END:VEVENT
END:VCALENDAR