BEGIN:VCALENDAR
VERSION:2.0
METHOD:PUBLISH
PRODID:-//Accessible Web Design//My Calendar//http://www.joedolson.com//v//EN';
BEGIN:VEVENT
UID:891-859
LOCATION:
SUMMARY:Fútbol: Rácing C. Villalbés 'B' - SD Guitiriz (Infantil)
DTSTAMP:20260228T110000
ORGANIZER;CN=Fran García:MAILTO:fran.garcia@artabra.es
DTSTART:20260228T110000
DTEND:20260228T120000
CATEGORIES:Fútbol campo
URL;VALUE=URI:https://deportes.concellodeguitiriz.com/mc-events/futbol-racing-c-villalbes-b-sd-guitiriz-infantil/?mc_id=891
DESCRIPTION:2ª Futgal Lugo - 2ª Fase - Promoción. Anexo A Magdalena.
END:VEVENT
END:VCALENDAR