BEGIN:VCALENDAR
VERSION:2.0
METHOD:PUBLISH
PRODID:-//Accessible Web Design//My Calendar//http://www.joedolson.com//v//EN';
BEGIN:VEVENT
UID:895-863
LOCATION:
SUMMARY:Atletismo: control Copa Deputación
DTSTAMP:20260227
ORGANIZER;CN=Fran García:MAILTO:fran.garcia@artabra.es
DTSTART:20260227
DTEND:20260228
CATEGORIES:Atletismo
URL;VALUE=URI:https://deportes.concellodeguitiriz.com/mc-events/atletismo-control-copa-deputacion/?mc_id=895
DESCRIPTION:Lugo.
X-FUNAMBOL-ALLDAY: 1
X-MICROSOFT-CDO-ALLDAYEVENT: TRUE

END:VEVENT
END:VCALENDAR