BEGIN:VCALENDAR
VERSION:2.0
METHOD:PUBLISH
PRODID:-//Accessible Web Design//My Calendar//http://www.joedolson.com//v//EN';
BEGIN:VEVENT
UID:896-864
LOCATION:
SUMMARY:Atletismo: Control ACD Piringalla
DTSTAMP:20260228
ORGANIZER;CN=Fran García:MAILTO:fran.garcia@artabra.es
DTSTART:20260228
DTEND:20260301
CATEGORIES:Atletismo
URL;VALUE=URI:https://deportes.concellodeguitiriz.com/mc-events/atletismo-control-acd-piringalla/?mc_id=896
DESCRIPTION:Lugo
X-FUNAMBOL-ALLDAY: 1
X-MICROSOFT-CDO-ALLDAYEVENT: TRUE

END:VEVENT
END:VCALENDAR