BEGIN:VCALENDAR
VERSION:2.0
METHOD:PUBLISH
PRODID:-//Accessible Web Design//My Calendar//http://www.joedolson.com//v//EN';
BEGIN:VEVENT
UID:903-871
LOCATION:
SUMMARY:Fútbol: UD Folgueiro - SD Guitiriz (Segunda Futgal)
DTSTAMP:20260307T160000
ORGANIZER;CN=Fran García:MAILTO:fran.garcia@artabra.es
DTSTART:20260307T160000
DTEND:20260307T170000
CATEGORIES:Fútbol campo
URL;VALUE=URI:https://deportes.concellodeguitiriz.com/mc-events/futbol-ud-folgueiro-sd-guitiriz-segunda-futgal-2/?mc_id=903
DESCRIPTION:Campo: Boa Vista
END:VEVENT
END:VCALENDAR