BEGIN:VCALENDAR
VERSION:2.0
METHOD:PUBLISH
PRODID:-//Accessible Web Design//My Calendar//http://www.joedolson.com//v//EN';
BEGIN:VEVENT
UID:95-92
LOCATION:
SUMMARY:Fútbol: SD Residencia B - SD Guitiriz (Xuvenil)
DTSTAMP:20241019T160000
ORGANIZER;CN=Fran García:MAILTO:fran.garcia@artabra.es
DTSTART:20241019T160000
DTEND:20241019T180000
CATEGORIES:Fútbol campo, General
URL;VALUE=URI:https://deportes.concellodeguitiriz.com/mc-events/futbol-sd-residencia-b-sd-guitiriz-xuvenil/?mc_id=95
DESCRIPTION:O sábado 19 de outubro ás 16:00 horas A Cheda acollerá o partido da 5ª xornada da 2ª Futgal Lugo (G2 Lugo Centro), onde o equipo xuvenil verase as caras ante a SD Residencia B.
END:VEVENT
END:VCALENDAR