BEGIN:VCALENDAR
VERSION:2.0
METHOD:PUBLISH
PRODID:-//Accessible Web Design//My Calendar//http://www.joedolson.com//v//EN';
BEGIN:VEVENT
UID:964-932
LOCATION:
SUMMARY:Atletismo:  XII Carreira Popular das Praias
DTSTAMP:20260403T103000
ORGANIZER;CN=Fran García:MAILTO:fran.garcia@artabra.es
DTSTART:20260403T103000
DTEND:20260403T150000
CATEGORIES:Atletismo
URL;VALUE=URI:https://deportes.concellodeguitiriz.com/mc-events/atletismo-xii-carreira-popular-das-praias/?mc_id=964
DESCRIPTION:Representantes do Club Atletismo Guitiriz participarán o venres, 3 de abril, na XII Carreira Popular das Praias. Será no Concello de Barreiros a partir das 10:30 horas.
END:VEVENT
END:VCALENDAR