BEGIN:VCALENDAR
VERSION:2.0
METHOD:PUBLISH
PRODID:-//Accessible Web Design//My Calendar//http://www.joedolson.com//v//EN';
BEGIN:VEVENT
UID:968-936
LOCATION:Pavillón Municipal Jonathan Carro Paz Rúa do Carme, 31, 27300 Guitiriz, Lugo
SUMMARY:Fútbol sala: O Korreo Guitiriz FS - Bueu FS (Terceira División Nacional)
DTSTAMP:20260411T160000
ORGANIZER;CN=Fran García:MAILTO:fran.garcia@artabra.es
DTSTART:20260411T160000
DTEND:20260411T180000
CATEGORIES:Fútbol sala
URL;VALUE=URI:https://deportes.concellodeguitiriz.com/mc-events/futbol-sala-o-korreo-guitiriz-fs-bueu-fs-terceira-division-nacional-2/?mc_id=968
DESCRIPTION:O sábado 11 de abril o primeiro equipo do O Korreo Guitiriz FS xogará ás 16:00 horas no Pavillón Municipal Jonathan Carro Paz contra o Bueu FS, nun partido da Terceira División Nacional.
END:VEVENT
END:VCALENDAR