BEGIN:VCALENDAR
VERSION:2.0
METHOD:PUBLISH
PRODID:-//Accessible Web Design//My Calendar//http://www.joedolson.com//v//EN';
BEGIN:VEVENT
UID:971-939
LOCATION:
SUMMARY:Atletismo: Xogade – Atletismo en Pista – Lugo 2026 – 2ª Xornada
DTSTAMP:20260412T100000
ORGANIZER;CN=Fran García:MAILTO:fran.garcia@artabra.es
DTSTART:20260412T100000
DTEND:20260412T150000
CATEGORIES:Atletismo
URL;VALUE=URI:https://deportes.concellodeguitiriz.com/mc-events/atletismo-xogade-atletismo-en-pista-lugo-2026-2a-xornada/?mc_id=971
DESCRIPTION:Representantes do Club Atletismo Guitiriz participarán o domingo, 12 de abril, no Xogade – Atletismo en Pista – Lugo 2026 – 2ª Xornada. Será no Concello de Lugo a partir das 10:00 horas.
END:VEVENT
END:VCALENDAR