BEGIN:VCALENDAR
VERSION:2.0
METHOD:PUBLISH
PRODID:-//Accessible Web Design//My Calendar//http://www.joedolson.com//v//EN';
BEGIN:VEVENT
UID:973-941
LOCATION:Campo de fútbol Suso Cruz 27308 Guitiriz, Lugo
SUMMARY:Fútbol: SD Guitiriz - SD Viveiro (Infantil)
DTSTAMP:20260411T113000
ORGANIZER;CN=Fran García:MAILTO:fran.garcia@artabra.es
DTSTART:20260411T113000
DTEND:20260411T133000
CATEGORIES:Fútbol campo
URL;VALUE=URI:https://deportes.concellodeguitiriz.com/mc-events/futbol-sd-guitiriz-sd-viveiro-infantil/?mc_id=973
DESCRIPTION:O sábado 11 de abril o equipo infantil da SD Guitiriz xogará contra a SD Viveiro no Suso Cruz ás 11:30 horas.
END:VEVENT
END:VCALENDAR