BEGIN:VCALENDAR
VERSION:2.0
METHOD:PUBLISH
PRODID:-//Accessible Web Design//My Calendar//http://www.joedolson.com//v//EN';
BEGIN:VEVENT
UID:974-942
LOCATION:
SUMMARY:Fútbol: Ceosport Lucense - SD Guitiriz (Alevín F-8)
DTSTAMP:20260411T190000
ORGANIZER;CN=Fran García:MAILTO:fran.garcia@artabra.es
DTSTART:20260411T190000
DTEND:20260411T210000
CATEGORIES:Fútbol campo
URL;VALUE=URI:https://deportes.concellodeguitiriz.com/mc-events/futbol-ceosport-lucense-sd-guitiriz-alevin-f-8/?mc_id=974
DESCRIPTION:O sábado 11 de abril ás 19:00 horas o Campo de Fútbol Municipal O Polvorín acollerá un partido onde o equipo alevín F-8 da SD Guitiriz verase as caras ante o Ceosport Lucense.
END:VEVENT
END:VCALENDAR