BEGIN:VCALENDAR
VERSION:2.0
METHOD:PUBLISH
PRODID:-//Accessible Web Design//My Calendar//http://www.joedolson.com//v//EN';
BEGIN:VEVENT
UID:980-947
LOCATION:
SUMMARY:Fútbol sala: Os Meigallos - EDM Guitiriz (Benxamín)
DTSTAMP:20260412T190000
ORGANIZER;CN=Fran García:MAILTO:fran.garcia@artabra.es
DTSTART:20260412T190000
DTEND:20260412T210000
CATEGORIES:Fútbol sala
URL;VALUE=URI:https://deportes.concellodeguitiriz.com/mc-events/futbol-sala-os-meigallos-edm-guitiriz-benxamin-2/?mc_id=980
DESCRIPTION:O domingo 12 de abril ás 19:00 horas o equipo benxamín das EDM Guitiriz verase as caras co Os Meigallos nun partido en Sarria.
END:VEVENT
END:VCALENDAR